BEGIN:VCALENDAR
VERSION:2.0
PRODID:-//https://mail.sarria.gal///NONSGML kigkonsult.se iCalcreator 2.10.15//
METHOD:PUBLISH
BEGIN:VEVENT
UID:20260420T041557UTC-1045vhZKrx@https://mail.sarria.gal/
DTSTAMP:20260420T041557Z
DESCRIPTION: https://mail.sarria.gal/gl/turismo/que-facer/ferias-festas-eve
 ntos/evento/200-i-torneo-navidad-futsal-concello-de-sarria
DTSTART:20231226T090000Z
DTEND:20231230T200000Z
LOCATION:Pavillón José Mario González.  O Chanto ()
SUMMARY:I Torneo Navidad Futsal Concello de Sarria.
URL:https://mail.sarria.gal/gl/turismo/que-facer/ferias-festas-eventos/even
 to/200-i-torneo-navidad-futsal-concello-de-sarria
END:VEVENT
END:VCALENDAR
