BEGIN:VCALENDAR
VERSION:2.0
PRODID:-//https://mail.sarria.gal///NONSGML kigkonsult.se iCalcreator 2.10.15//
METHOD:PUBLISH
BEGIN:VEVENT
UID:20260422T192938UTC-97551xJNAP@https://mail.sarria.gal/
DTSTAMP:20260422T192938Z
DESCRIPTION: https://mail.sarria.gal/gl/turismo/que-facer/ferias-festas-eve
 ntos/evento/311-festival-fin-de-curso-patinaxe
DTSTART:20240609T153000Z
DTEND:20240609T193000Z
LOCATION:Pavillón de Oural ()
SUMMARY:Festival fin de curso patinaxe.
URL:https://mail.sarria.gal/gl/turismo/que-facer/ferias-festas-eventos/even
 to/311-festival-fin-de-curso-patinaxe
END:VEVENT
END:VCALENDAR
