BEGIN:VCALENDAR
VERSION:2.0
PRODID:-//https://mail.sarria.gal///NONSGML kigkonsult.se iCalcreator 2.10.15//
METHOD:PUBLISH
BEGIN:VEVENT
UID:20260422T084638UTC-2194nERppC@https://mail.sarria.gal/
DTSTAMP:20260422T084638Z
DESCRIPTION:http://laciencieneta.com/\n https://mail.sarria.gal/gl/turismo/
 que-facer/ferias-festas-eventos/evento/333-ciencieneta-paseo-do-malecon-11
 -de-agosto
DTSTART:20240811T173000Z
DTEND:20240811T200000Z
LOCATION:Paseo do Malecón ()
SUMMARY:Ciencieneta. Paseo do Malecón. 11 de agosto.
URL:https://mail.sarria.gal/gl/turismo/que-facer/ferias-festas-eventos/even
 to/333-ciencieneta-paseo-do-malecon-11-de-agosto
END:VEVENT
END:VCALENDAR
