BEGIN:VCALENDAR
VERSION:2.0
PRODID:-//https://mail.sarria.gal///NONSGML kigkonsult.se iCalcreator 2.10.15//
METHOD:PUBLISH
BEGIN:VEVENT
UID:20260424T044831UTC-183730SwAe@https://mail.sarria.gal/
DTSTAMP:20260424T044831Z
DESCRIPTION: https://mail.sarria.gal/gl/turismo/que-facer/ferias-festas-eve
 ntos/evento/475-meigallos-fs
DTSTART:20250511T104600Z
DTEND:20250511T184600Z
LOCATION:Pavillón José Mario González.  O Chanto ()
SUMMARY:Meigallos FS
URL:https://mail.sarria.gal/gl/turismo/que-facer/ferias-festas-eventos/even
 to/475-meigallos-fs
END:VEVENT
END:VCALENDAR
