BEGIN:VCALENDAR
VERSION:2.0
PRODID:-//https://mail.sarria.gal///NONSGML kigkonsult.se iCalcreator 2.10.15//
METHOD:PUBLISH
BEGIN:VEVENT
UID:20260424T044926UTC-3349nuEUD2@https://mail.sarria.gal/
DTSTAMP:20260424T044926Z
DESCRIPTION: https://mail.sarria.gal/gl/turismo/que-facer/ferias-festas-eve
 ntos/evento/476-sd-sarriana
DTSTART:20250511T105000Z
DTEND:20250511T185000Z
LOCATION:A Ribela ()
SUMMARY:SD Sarriana
URL:https://mail.sarria.gal/gl/turismo/que-facer/ferias-festas-eventos/even
 to/476-sd-sarriana
END:VEVENT
END:VCALENDAR
