BEGIN:VCALENDAR
VERSION:2.0
PRODID:-//https://mail.sarria.gal///NONSGML kigkonsult.se iCalcreator 2.10.15//
METHOD:PUBLISH
BEGIN:VEVENT
UID:20260421T230158UTC-3677bMgWWC@https://mail.sarria.gal/
DTSTAMP:20260421T230158Z
DESCRIPTION: https://mail.sarria.gal/gl/turismo/que-facer/ferias-festas-eve
 ntos/evento/478-xxxv-torneo-de-futbol-sala-san-xoan-2025
DTSTART:20250620T164100Z
DTEND:20250622T184100Z
LOCATION:Pavillón José Mario González.  O Chanto ()
SUMMARY:XXXV Torneo de fútbol sala San Xoán 2025
URL:https://mail.sarria.gal/gl/turismo/que-facer/ferias-festas-eventos/even
 to/478-xxxv-torneo-de-futbol-sala-san-xoan-2025
END:VEVENT
END:VCALENDAR
