BEGIN:VCALENDAR
VERSION:2.0
PRODID:-//https://mail.sarria.gal///NONSGML kigkonsult.se iCalcreator 2.10.15//
METHOD:PUBLISH
BEGIN:VEVENT
UID:20260423T205926UTC-5983S9PJIS@https://mail.sarria.gal/
DTSTAMP:20260423T205926Z
DESCRIPTION: https://mail.sarria.gal/gl/turismo/que-facer/ferias-festas-eve
 ntos/evento/479-meigallos-fs
DTSTART:20250518T123900Z
DTEND:20250518T200000Z
LOCATION:Pavillón José Mario González.  O Chanto ()
SUMMARY:Meigallos FS
URL:https://mail.sarria.gal/gl/turismo/que-facer/ferias-festas-eventos/even
 to/479-meigallos-fs
END:VEVENT
END:VCALENDAR
