BEGIN:VCALENDAR
VERSION:2.0
PRODID:-//https://mail.sarria.gal///NONSGML kigkonsult.se iCalcreator 2.10.15//
METHOD:PUBLISH
BEGIN:VEVENT
UID:20260423T221224UTC-870215TsnC@https://mail.sarria.gal/
DTSTAMP:20260423T221224Z
DESCRIPTION: https://mail.sarria.gal/gl/turismo/que-facer/ferias-festas-eve
 ntos/evento/480-sd-sarriana-semifinais-xuvenil-copa-deputacion
DTSTART:20250517T150000Z
DTEND:20250517T170000Z
LOCATION:A Ribela ()
SUMMARY:SD Sarriana. Semifinais Xuvenil Copa Deputación
URL:https://mail.sarria.gal/gl/turismo/que-facer/ferias-festas-eventos/even
 to/480-sd-sarriana-semifinais-xuvenil-copa-deputacion
END:VEVENT
END:VCALENDAR
