BEGIN:VCALENDAR
VERSION:2.0
PRODID:-//https://mail.sarria.gal///NONSGML kigkonsult.se iCalcreator 2.10.15//
METHOD:PUBLISH
BEGIN:VEVENT
UID:20260424T002836UTC-1118EvI6d3@https://mail.sarria.gal/
DTSTAMP:20260424T002836Z
DESCRIPTION: https://mail.sarria.gal/gl/turismo/que-facer/ferias-festas-eve
 ntos/evento/482-charla-informativa-irmandade-sarria-guerledan
DTSTART:20250515T150000Z
DTEND:20250515T170000Z
LOCATION:Casa da Cultura\, rúa Marqués de Ugena s/n (Rúa Marqués de Ugena\,
  27600 Sarria\, Lugo\, España)
SUMMARY:Charla informativa. Irmandade Sarria-Guerlédan
URL:https://mail.sarria.gal/gl/turismo/que-facer/ferias-festas-eventos/even
 to/482-charla-informativa-irmandade-sarria-guerledan
END:VEVENT
END:VCALENDAR
