BEGIN:VCALENDAR
VERSION:2.0
PRODID:-//https://mail.sarria.gal///NONSGML kigkonsult.se iCalcreator 2.10.15//
METHOD:PUBLISH
BEGIN:VEVENT
UID:20260423T024026UTC-1380FejGEr@https://mail.sarria.gal/
DTSTAMP:20260423T024026Z
DESCRIPTION: https://mail.sarria.gal/gl/turismo/que-facer/ferias-festas-eve
 ntos/evento/485-sd-sarriana-31-de-maio-1-xuno
DTSTART:20250601T093600Z
DTEND:20250601T193600Z
LOCATION:Ribela ()
SUMMARY:SD Sarriana. 31 de maio 1 Xuño
URL:https://mail.sarria.gal/gl/turismo/que-facer/ferias-festas-eventos/even
 to/485-sd-sarriana-31-de-maio-1-xuno
END:VEVENT
END:VCALENDAR
