BEGIN:VCALENDAR
VERSION:2.0
PRODID:-//https://mail.sarria.gal///NONSGML kigkonsult.se iCalcreator 2.10.15//
METHOD:PUBLISH
BEGIN:VEVENT
UID:20260423T023940UTC-4402DxTHC8@https://mail.sarria.gal/
DTSTAMP:20260423T023940Z
DESCRIPTION: https://mail.sarria.gal/gl/turismo/que-facer/ferias-festas-eve
 ntos/evento/486-cb-sarria-31-de-maio-1-xuno
DTSTART:20250601T093800Z
DTEND:20250601T193800Z
LOCATION:Sarria ()
SUMMARY:CB Sarria. 31 de maio 1 xuño
URL:https://mail.sarria.gal/gl/turismo/que-facer/ferias-festas-eventos/even
 to/486-cb-sarria-31-de-maio-1-xuno
END:VEVENT
END:VCALENDAR
