BEGIN:VCALENDAR
VERSION:2.0
PRODID:-//https://mail.sarria.gal///NONSGML kigkonsult.se iCalcreator 2.10.15//
METHOD:PUBLISH
BEGIN:VEVENT
UID:20260422T084842UTC-6056u7Vv5j@https://mail.sarria.gal/
DTSTAMP:20260422T084842Z
DESCRIPTION: https://mail.sarria.gal/gl/turismo/que-facer/ferias-festas-eve
 ntos/evento/487-xviii-torneo-de-futbol-sala-os-meigallos
DTSTART:20250613T094100Z
DTEND:20250615T194100Z
LOCATION:Sarria ()
SUMMARY:XVIII Torneo de Fútbol Sala Os Meigallos.
URL:https://mail.sarria.gal/gl/turismo/que-facer/ferias-festas-eventos/even
 to/487-xviii-torneo-de-futbol-sala-os-meigallos
END:VEVENT
END:VCALENDAR
