BEGIN:VCALENDAR
VERSION:2.0
PRODID:-//https://mail.sarria.gal///NONSGML kigkonsult.se iCalcreator 2.10.15//
METHOD:PUBLISH
BEGIN:VEVENT
UID:20260422T182243UTC-7136mJW7Wc@https://mail.sarria.gal/
DTSTAMP:20260422T182243Z
DESCRIPTION: https://mail.sarria.gal/gl/turismo/que-facer/ferias-festas-eve
 ntos/evento/488-x-torneo-memorial-pedro-canoa
DTSTART:20250606T080000Z
DTEND:20250608T182500Z
LOCATION:Ribela ()
SUMMARY:X Torneo Memorial Pedro Canoa
URL:https://mail.sarria.gal/gl/turismo/que-facer/ferias-festas-eventos/even
 to/488-x-torneo-memorial-pedro-canoa
END:VEVENT
END:VCALENDAR
