BEGIN:VCALENDAR
VERSION:2.0
PRODID:-//https://mail.sarria.gal///NONSGML kigkonsult.se iCalcreator 2.10.15//
METHOD:PUBLISH
BEGIN:VEVENT
UID:20260422T182025UTC-77428nhc0O@https://mail.sarria.gal/
DTSTAMP:20260422T182025Z
DESCRIPTION: https://mail.sarria.gal/gl/turismo/que-facer/ferias-festas-eve
 ntos/evento/489-ii-encontro-coral-irmandade-de-sarria
DTSTART:20250608T180000Z
DTEND:20250608T203500Z
LOCATION:Sociedade La Unión ()
SUMMARY:II Encontro Coral Irmandade de Sarria
URL:https://mail.sarria.gal/gl/turismo/que-facer/ferias-festas-eventos/even
 to/489-ii-encontro-coral-irmandade-de-sarria
END:VEVENT
END:VCALENDAR
