BEGIN:VCALENDAR
VERSION:2.0
PRODID:-//https://mail.sarria.gal///NONSGML kigkonsult.se iCalcreator 2.10.15//
METHOD:PUBLISH
BEGIN:VEVENT
UID:20260422T181452UTC-4832AvF9TV@https://mail.sarria.gal/
DTSTAMP:20260422T181452Z
DESCRIPTION: https://mail.sarria.gal/gl/turismo/que-facer/ferias-festas-eve
 ntos/evento/496-gala-de-patinaxe-artistico
DTSTART:20250608T140000Z
DTEND:20250608T170000Z
LOCATION:Pavillón de Oural ()
SUMMARY:Gala de Patinaxe Artístico
URL:https://mail.sarria.gal/gl/turismo/que-facer/ferias-festas-eventos/even
 to/496-gala-de-patinaxe-artistico
END:VEVENT
END:VCALENDAR
