BEGIN:VCALENDAR
VERSION:2.0
PRODID:-//https://mail.sarria.gal///NONSGML kigkonsult.se iCalcreator 2.10.15//
METHOD:PUBLISH
BEGIN:VEVENT
UID:20260422T071457UTC-4260NDDXAJ@https://mail.sarria.gal/
DTSTAMP:20260422T071457Z
DESCRIPTION: https://mail.sarria.gal/gl/turismo/que-facer/ferias-festas-eve
 ntos/evento/499-fin-de-curso-atencion-tempera-e-esmusa
DTSTART:20250616T160000Z
DTEND:20250616T183000Z
LOCATION:Casa da Cultura\, rúa Marqués de Ugena s/n (Rúa Marqués de Ugena\,
  27600 Sarria\, Lugo\, España)
SUMMARY:Fin de curso Atención Temperá e ESMUSA
URL:https://mail.sarria.gal/gl/turismo/que-facer/ferias-festas-eventos/even
 to/499-fin-de-curso-atencion-tempera-e-esmusa
END:VEVENT
END:VCALENDAR
