BEGIN:VCALENDAR
VERSION:2.0
PRODID:-//https://mail.sarria.gal///NONSGML kigkonsult.se iCalcreator 2.10.15//
METHOD:PUBLISH
BEGIN:VEVENT
UID:20260421T105539UTC-4621VWp6UM@https://mail.sarria.gal/
DTSTAMP:20260421T105539Z
DESCRIPTION: https://mail.sarria.gal/gl/turismo/que-facer/ferias-festas-eve
 ntos/evento/503-taller-de-xabons-ecoloxicos
DTSTART:20250701T173000Z
DTEND:20250701T190000Z
LOCATION:Casa da Cultura\, rúa Marqués de Ugena s/n (Rúa Marqués de Ugena\,
  27600 Sarria\, Lugo\, España)
SUMMARY:Taller de Xabóns Ecolóxicos
URL:https://mail.sarria.gal/gl/turismo/que-facer/ferias-festas-eventos/even
 to/503-taller-de-xabons-ecoloxicos
END:VEVENT
END:VCALENDAR
