BEGIN:VCALENDAR
VERSION:2.0
PRODID:-//https://mail.sarria.gal///NONSGML kigkonsult.se iCalcreator 2.10.15//
METHOD:PUBLISH
BEGIN:VEVENT
UID:20260420T014152UTC-5785VfBrsH@https://mail.sarria.gal/
DTSTAMP:20260420T014152Z
DESCRIPTION: https://mail.sarria.gal/gl/turismo/que-facer/ferias-festas-eve
 ntos/evento/676-feira-do-libro-2026
DTSTART:20260425T080000Z
DTEND:20260426T170000Z
LOCATION:Villa Andrea ()
SUMMARY:Feira do Libro 2026
URL:https://mail.sarria.gal/gl/turismo/que-facer/ferias-festas-eventos/even
 to/676-feira-do-libro-2026
END:VEVENT
END:VCALENDAR
