BEGIN:VCALENDAR
VERSION:2.0
PRODID:-//https://mail.sarria.gal///NONSGML kigkonsult.se iCalcreator 2.10.15//
METHOD:PUBLISH
BEGIN:VEVENT
UID:20260422T130419UTC-4702lFvOKu@https://mail.sarria.gal/
DTSTAMP:20260422T130419Z
DESCRIPTION: https://mail.sarria.gal/gl/turismo/que-facer/ferias-festas-eve
 ntos/evento/680-mercores-de-contos-tardes-culturais-para-a-cativada
DTSTART:20260422T153000Z
DTEND:20260422T170000Z
LOCATION:Biblioteca Pública Municipal Camilo Gonsar. ()
SUMMARY:Mércores de contos. Tardes culturais para a cativada
URL:https://mail.sarria.gal/gl/turismo/que-facer/ferias-festas-eventos/even
 to/680-mercores-de-contos-tardes-culturais-para-a-cativada
END:VEVENT
END:VCALENDAR
