BEGIN:VCALENDAR
VERSION:2.0
PRODID:-//https://mail.sarria.gal///NONSGML kigkonsult.se iCalcreator 2.10.15//
METHOD:PUBLISH
BEGIN:VEVENT
UID:20260423T182239UTC-0794uXV8vX@https://mail.sarria.gal/
DTSTAMP:20260423T182239Z
DESCRIPTION: https://mail.sarria.gal/gl/turismo/que-facer/ferias-festas-eve
 ntos/evento/683-iniciacion-ao-mundo-dixital
DTSTART:20260520T083000Z
DTEND:20260527T110000Z
LOCATION:Aula Cemit ()
SUMMARY:Iniciación ao mundo dixital
URL:https://mail.sarria.gal/gl/turismo/que-facer/ferias-festas-eventos/even
 to/683-iniciacion-ao-mundo-dixital
END:VEVENT
END:VCALENDAR
